BEGIN:VCALENDAR
VERSION:2.0
PRODID:-//193.239.44.119//NONSGML kigkonsult.se iCalcreator 2.20//
CALSCALE:GREGORIAN
METHOD:PUBLISH
X-WR-TIMEZONE:Europe/Warsaw
BEGIN:VEVENT
UID:event435@Parafia Rzymskokatolicka Najświętszego Serca Jezusowego w Łęcz
 u - Salezjanie
DTSTAMP:20260420T034509Z
CATEGORIES:Msza Święta
DESCRIPTION:Liturgia Wigilii Paschalnej - Wielka Sobota\nKategoria: Msza Św
 ięta\nLink: https://lecze-salezjanie.pl/index.php?option=com_jem&view=even
 t&id=435:liturgia-wigilii-paschalnej-wielka-sobota-1\n
DTSTART;TZID=Europe/Warsaw:20220416T170000
DTEND;TZID=Europe/Warsaw:20220416T170000
LOCATION:Kościół Maryi Wspomożycielki Wiernych w Suchaczu\,Kielecka 12B\,Su
 chacz
SUMMARY:Liturgia Wigilii Paschalnej - Wielka Sobota
URL:https://lecze-salezjanie.pl/index.php?option=com_jem&view=event&id=435:
 liturgia-wigilii-paschalnej-wielka-sobota-1
END:VEVENT
END:VCALENDAR