BEGIN:VCALENDAR
VERSION:2.0
PRODID:-//193.239.44.119//NONSGML kigkonsult.se iCalcreator 2.20//
CALSCALE:GREGORIAN
METHOD:PUBLISH
X-WR-TIMEZONE:Europe/Warsaw
BEGIN:VEVENT
UID:event437@Parafia Rzymskokatolicka Najświętszego Serca Jezusowego w Łęcz
 u - Salezjanie
DTSTAMP:20260420T034547Z
CATEGORIES:Msza Święta
DESCRIPTION:+ Henryk\, Wacław oraz zmarli z rodziny Andrusiewiczów\, Andron
 ików\, Bieleckich\, Pankiewiczów\, Łazuków\, Czyżewskich\nKategoria: Msza 
 Święta\nLink: https://lecze-salezjanie.pl/index.php?option=com_jem&view=ev
 ent&id=437:henryk-waclaw-oraz-zmarli-z-rodziny-andrusiewiczow-andronikow-b
 ieleckich-pankiewiczow-lazukow-czyzewskich\n
DTSTART;TZID=Europe/Warsaw:20220417T103000
DTEND;TZID=Europe/Warsaw:20220417T103000
LOCATION:Kościół Maryi Wspomożycielki Wiernych w Suchaczu\,Kielecka 12B\,Su
 chacz
SUMMARY:+ Henryk\, Wacław oraz zmarli z rodziny Andrusiewiczów\, Androników
 \, Bieleckich\, Pankiewiczów\, Łazuków\, Czyżewskich
URL:https://lecze-salezjanie.pl/index.php?option=com_jem&view=event&id=437:
 henryk-waclaw-oraz-zmarli-z-rodziny-andrusiewiczow-andronikow-bieleckich-p
 ankiewiczow-lazukow-czyzewskich
END:VEVENT
END:VCALENDAR