BEGIN:VCALENDAR
VERSION:2.0
PRODID:-//193.239.44.119//NONSGML kigkonsult.se iCalcreator 2.20//
CALSCALE:GREGORIAN
METHOD:PUBLISH
X-WR-TIMEZONE:Europe/Warsaw
BEGIN:VEVENT
UID:event439@Parafia Rzymskokatolicka Najświętszego Serca Jezusowego w Łęcz
 u - Salezjanie
DTSTAMP:20260422T090648Z
CATEGORIES:Msza Święta
DESCRIPTION:Dziękczynna\, z prośbą o dary Bożej Miłości i nieustanną opiekę
  Matki Bożej dla Anny Pankiewicz w dniu urodzin\nKategoria: Msza Święta\nL
 ink: https://lecze-salezjanie.pl/index.php?option=com_jem&view=event&id=43
 9:dziekczynna-z-prosba-o-dary-bozej-milosci-i-nieustanna-opieke-matki-boze
 j-dla-anny-pankiewicz-w-dniu-urodzin\n
DTSTART;TZID=Europe/Warsaw:20220418T103000
DTEND;TZID=Europe/Warsaw:20220418T103000
LOCATION:Kościół Maryi Wspomożycielki Wiernych w Suchaczu\,Kielecka 12B\,Su
 chacz
SUMMARY:Dziękczynna\, z prośbą o dary Bożej Miłości i nieustanną opiekę Mat
 ki Bożej dla Anny Pankiewicz w dniu urodzin
URL:https://lecze-salezjanie.pl/index.php?option=com_jem&view=event&id=439:
 dziekczynna-z-prosba-o-dary-bozej-milosci-i-nieustanna-opieke-matki-bozej-
 dla-anny-pankiewicz-w-dniu-urodzin
END:VEVENT
END:VCALENDAR