BEGIN:VCALENDAR
VERSION:2.0
PRODID:-//193.239.44.119//NONSGML kigkonsult.se iCalcreator 2.20//
CALSCALE:GREGORIAN
METHOD:PUBLISH
X-WR-TIMEZONE:Europe/Warsaw
BEGIN:VEVENT
UID:event440@Parafia Rzymskokatolicka Najświętszego Serca Jezusowego w Łęcz
 u - Salezjanie
DTSTAMP:20260420T034635Z
CATEGORIES:Msza Święta
DESCRIPTION:Dziękczynna\, z prośbą o Boże Miłosierdzie dla Janiny i jej rod
 ziny\nKategoria: Msza Święta\nLink: https://lecze-salezjanie.pl/index.php?
 option=com_jem&view=event&id=440:dziekczynna-z-prosba-o-boze-milosierdzie-
 dla-janiny-i-jej-rodziny\n
DTSTART;TZID=Europe/Warsaw:20220424T090000
DTEND;TZID=Europe/Warsaw:20220424T090000
LOCATION:Kościół Maryi Wspomożycielki Wiernych w Suchaczu\,Kielecka 12B\,Su
 chacz
SUMMARY:Dziękczynna\, z prośbą o Boże Miłosierdzie dla Janiny i jej rodziny
URL:https://lecze-salezjanie.pl/index.php?option=com_jem&view=event&id=440:
 dziekczynna-z-prosba-o-boze-milosierdzie-dla-janiny-i-jej-rodziny
END:VEVENT
END:VCALENDAR