BEGIN:VCALENDAR
VERSION:2.0
PRODID:-//193.239.44.119//NONSGML kigkonsult.se iCalcreator 2.20//
CALSCALE:GREGORIAN
METHOD:PUBLISH
X-WR-TIMEZONE:Europe/Warsaw
BEGIN:VEVENT
UID:event441@Parafia Rzymskokatolicka Najświętszego Serca Jezusowego w Łęcz
 u - Salezjanie
DTSTAMP:20260420T034547Z
CATEGORIES:Msza Święta
DESCRIPTION:Dziękczynna\, z prośbą o Boże Miłosierdzie dla Jadwigi Makarewi
 cz i jej rodziny\nKategoria: Msza Święta\nLink: https://lecze-salezjanie.p
 l/index.php?option=com_jem&view=event&id=441:dziekczynna-z-prosba-o-boze-m
 ilosierdzie-dla-jadwigi-makarewicz-i-jej-rodziny\n
DTSTART;TZID=Europe/Warsaw:20220424T103000
DTEND;TZID=Europe/Warsaw:20220424T103000
LOCATION:Kościół Maryi Wspomożycielki Wiernych w Suchaczu\,Kielecka 12B\,Su
 chacz
SUMMARY:Dziękczynna\, z prośbą o Boże Miłosierdzie dla Jadwigi Makarewicz i
  jej rodziny
URL:https://lecze-salezjanie.pl/index.php?option=com_jem&view=event&id=441:
 dziekczynna-z-prosba-o-boze-milosierdzie-dla-jadwigi-makarewicz-i-jej-rodz
 iny
END:VEVENT
END:VCALENDAR