BEGIN:VCALENDAR
VERSION:2.0
PRODID:-//193.239.44.119//NONSGML kigkonsult.se iCalcreator 2.20//
CALSCALE:GREGORIAN
METHOD:PUBLISH
X-WR-TIMEZONE:Europe/Warsaw
BEGIN:VEVENT
UID:event442@Parafia Rzymskokatolicka Najświętszego Serca Jezusowego w Łęcz
 u - Salezjanie
DTSTAMP:20260420T020118Z
CATEGORIES:Msza Święta
DESCRIPTION:+ Teresa i Tadeusz Sowińscy\, zmarli z obojga stron\nKategoria:
  Msza Święta\nLink: https://lecze-salezjanie.pl/index.php?option=com_jem&v
 iew=event&id=442:teresa-i-tadeusz-sowinscy-zmarli-z-obojga-stron\n
DTSTART;TZID=Europe/Warsaw:20220501T103000
DTEND;TZID=Europe/Warsaw:20220501T103000
LOCATION:Kościół Maryi Wspomożycielki Wiernych w Suchaczu\,Kielecka 12B\,Su
 chacz
SUMMARY:+ Teresa i Tadeusz Sowińscy\, zmarli z obojga stron
URL:https://lecze-salezjanie.pl/index.php?option=com_jem&view=event&id=442:
 teresa-i-tadeusz-sowinscy-zmarli-z-obojga-stron
END:VEVENT
END:VCALENDAR