BEGIN:VCALENDAR
VERSION:2.0
PRODID:-//193.239.44.119//NONSGML kigkonsult.se iCalcreator 2.20//
CALSCALE:GREGORIAN
METHOD:PUBLISH
X-WR-TIMEZONE:Europe/Warsaw
BEGIN:VEVENT
UID:event443@Parafia Rzymskokatolicka Najświętszego Serca Jezusowego w Łęcz
 u - Salezjanie
DTSTAMP:20260420T001518Z
CATEGORIES:Msza Święta
DESCRIPTION:+ Maria\, Wanda\, Władysław\nKategoria: Msza Święta\nLink: http
 s://lecze-salezjanie.pl/index.php?option=com_jem&view=event&id=443:maria-w
 anda-wladyslaw\n
DTSTART;TZID=Europe/Warsaw:20220503T090000
DTEND;TZID=Europe/Warsaw:20220503T090000
LOCATION:Kościół Maryi Wspomożycielki Wiernych w Suchaczu\,Kielecka 12B\,Su
 chacz
SUMMARY:+ Maria\, Wanda\, Władysław
URL:https://lecze-salezjanie.pl/index.php?option=com_jem&view=event&id=443:
 maria-wanda-wladyslaw
END:VEVENT
END:VCALENDAR