BEGIN:VCALENDAR
VERSION:2.0
PRODID:-//193.239.44.119//NONSGML kigkonsult.se iCalcreator 2.20//
CALSCALE:GREGORIAN
METHOD:PUBLISH
X-WR-TIMEZONE:Europe/Warsaw
BEGIN:VEVENT
UID:event445@Parafia Rzymskokatolicka Najświętszego Serca Jezusowego w Łęcz
 u - Salezjanie
DTSTAMP:20260420T020321Z
CATEGORIES:Msza Święta
DESCRIPTION:O dary Bożej Miłości\, ulgę w cierpieniu\, zdrowie i opiekę Mat
 ki Bożej dla Ireny Andronik\nKategoria: Msza Święta\nLink: https://lecze-s
 alezjanie.pl/index.php?option=com_jem&view=event&id=445:o-dary-bozej-milos
 ci-ulge-w-cierpieniu-zdrowie-i-opieke-matki-bozej-dla-ireny-andronik\n
DTSTART;TZID=Europe/Warsaw:20220505T170000
DTEND;TZID=Europe/Warsaw:20220505T170000
LOCATION:Kościół Maryi Wspomożycielki Wiernych w Suchaczu\,Kielecka 12B\,Su
 chacz
SUMMARY:O dary Bożej Miłości\, ulgę w cierpieniu\, zdrowie i opiekę Matki B
 ożej dla Ireny Andronik
URL:https://lecze-salezjanie.pl/index.php?option=com_jem&view=event&id=445:
 o-dary-bozej-milosci-ulge-w-cierpieniu-zdrowie-i-opieke-matki-bozej-dla-ir
 eny-andronik
END:VEVENT
END:VCALENDAR