BEGIN:VCALENDAR
VERSION:2.0
PRODID:-//193.239.44.119//NONSGML kigkonsult.se iCalcreator 2.20//
CALSCALE:GREGORIAN
METHOD:PUBLISH
X-WR-TIMEZONE:Europe/Warsaw
BEGIN:VEVENT
UID:event447@Parafia Rzymskokatolicka Najświętszego Serca Jezusowego w Łęcz
 u - Salezjanie
DTSTAMP:20260420T020721Z
CATEGORIES:Msza Święta
DESCRIPTION:O zdrowie\, Błogosławieństwo Boże\, opiekę Matki Bożej dla Anny
  Rymsza w 87 urodziny\nKategoria: Msza Święta\nLink: https://lecze-salezja
 nie.pl/index.php?option=com_jem&view=event&id=447:o-zdrowie-blogoslawienst
 wo-boze-opieke-matki-bozej-dla-anny-rymsza-w-87-urodziny\n
DTSTART;TZID=Europe/Warsaw:20220511T170000
DTEND;TZID=Europe/Warsaw:20220511T170000
LOCATION:Kościół Maryi Wspomożycielki Wiernych w Suchaczu\,Kielecka 12B\,Su
 chacz
SUMMARY:O zdrowie\, Błogosławieństwo Boże\, opiekę Matki Bożej dla Anny Rym
 sza w 87 urodziny
URL:https://lecze-salezjanie.pl/index.php?option=com_jem&view=event&id=447:
 o-zdrowie-blogoslawienstwo-boze-opieke-matki-bozej-dla-anny-rymsza-w-87-ur
 odziny
END:VEVENT
END:VCALENDAR