BEGIN:VCALENDAR
VERSION:2.0
PRODID:-//193.239.44.119//NONSGML kigkonsult.se iCalcreator 2.20//
CALSCALE:GREGORIAN
METHOD:PUBLISH
X-WR-TIMEZONE:Europe/Warsaw
BEGIN:VEVENT
UID:event448@Parafia Rzymskokatolicka Najświętszego Serca Jezusowego w Łęcz
 u - Salezjanie
DTSTAMP:20260420T001758Z
CATEGORIES:Msza Święta
DESCRIPTION:O dary Bożej Miłości\, zdrowie\, nieustanną opiekę Matki Bożej 
 dla Zofii Waszczeńczuk z okazji imienin\nKategoria: Msza Święta\nLink: htt
 ps://lecze-salezjanie.pl/index.php?option=com_jem&view=event&id=448:o-dary
 -bozej-milosci-zdrowie-nieustanna-opieke-matki-bozej-dla-zofii-waszczenczu
 k-z-okazji-imienin\n
DTSTART;TZID=Europe/Warsaw:20220514T170000
DTEND;TZID=Europe/Warsaw:20220514T170000
LOCATION:Kościół Maryi Wspomożycielki Wiernych w Suchaczu\,Kielecka 12B\,Su
 chacz
SUMMARY:O dary Bożej Miłości\, zdrowie\, nieustanną opiekę Matki Bożej dla 
 Zofii Waszczeńczuk z okazji imienin
URL:https://lecze-salezjanie.pl/index.php?option=com_jem&view=event&id=448:
 o-dary-bozej-milosci-zdrowie-nieustanna-opieke-matki-bozej-dla-zofii-waszc
 zenczuk-z-okazji-imienin
END:VEVENT
END:VCALENDAR