BEGIN:VCALENDAR
VERSION:2.0
PRODID:-//193.239.44.119//NONSGML kigkonsult.se iCalcreator 2.20//
CALSCALE:GREGORIAN
METHOD:PUBLISH
X-WR-TIMEZONE:Europe/Warsaw
BEGIN:VEVENT
UID:event449@Parafia Rzymskokatolicka Najświętszego Serca Jezusowego w Łęcz
 u - Salezjanie
DTSTAMP:20260420T020118Z
CATEGORIES:Msza Święta
DESCRIPTION:O dary Bożej Miłości\, zdrowie dla Zofii i Stanisława Danilewic
 z\nKategoria: Msza Święta\nLink: https://lecze-salezjanie.pl/index.php?opt
 ion=com_jem&view=event&id=449:o-dary-bozej-milosci-zdrowie-dla-zofii-i-sta
 nislawa-danilewicz\n
DTSTART;TZID=Europe/Warsaw:20220515T090000
DTEND;TZID=Europe/Warsaw:20220515T090000
LOCATION:Kościół Maryi Wspomożycielki Wiernych w Suchaczu\,Kielecka 12B\,Su
 chacz
SUMMARY:O dary Bożej Miłości\, zdrowie dla Zofii i Stanisława Danilewicz
URL:https://lecze-salezjanie.pl/index.php?option=com_jem&view=event&id=449:
 o-dary-bozej-milosci-zdrowie-dla-zofii-i-stanislawa-danilewicz
END:VEVENT
END:VCALENDAR