BEGIN:VCALENDAR
VERSION:2.0
PRODID:-//193.239.44.119//NONSGML kigkonsult.se iCalcreator 2.20//
CALSCALE:GREGORIAN
METHOD:PUBLISH
X-WR-TIMEZONE:Europe/Warsaw
BEGIN:VEVENT
UID:event44@Parafia Rzymskokatolicka Najświętszego Serca Jezusowego w Łęczu
  - Salezjanie
DTSTAMP:20260420T065703Z
CATEGORIES:Msza Święta
DESCRIPTION:+ Janina Niksa - Msza święta Gregoriańska (18)\nKategoria: Msza
  Święta\nLink: https://lecze-salezjanie.pl/index.php?option=com_jem&view=e
 vent&id=44:janina-niksa-msza-swieta-gregorianska-18\n
DTSTART;TZID=Europe/Warsaw:20220119T180000
DTEND;TZID=Europe/Warsaw:20220119T180000
LOCATION:Kościół Najświętszego Serca Jezusowego w Łęczu\,Łęcze 48\,Łęcze
SUMMARY:+ Janina Niksa - Msza święta Gregoriańska (18)
URL:https://lecze-salezjanie.pl/index.php?option=com_jem&view=event&id=44:j
 anina-niksa-msza-swieta-gregorianska-18
END:VEVENT
END:VCALENDAR