BEGIN:VCALENDAR
VERSION:2.0
PRODID:-//193.239.44.119//NONSGML kigkonsult.se iCalcreator 2.20//
CALSCALE:GREGORIAN
METHOD:PUBLISH
X-WR-TIMEZONE:Europe/Warsaw
BEGIN:VEVENT
UID:event450@Parafia Rzymskokatolicka Najświętszego Serca Jezusowego w Łęcz
 u - Salezjanie
DTSTAMP:20260420T015721Z
CATEGORIES:Msza Święta
DESCRIPTION:+ Maria Pawlak - w 1 rocznicę śmierci\nKategoria: Msza Święta\n
 Link: https://lecze-salezjanie.pl/index.php?option=com_jem&view=event&id=4
 50:maria-pawlak-w-1-rocznice-smierci\n
DTSTART;TZID=Europe/Warsaw:20220522T090000
DTEND;TZID=Europe/Warsaw:20220522T090000
LOCATION:Kościół Maryi Wspomożycielki Wiernych w Suchaczu\,Kielecka 12B\,Su
 chacz
SUMMARY:+ Maria Pawlak - w 1 rocznicę śmierci
URL:https://lecze-salezjanie.pl/index.php?option=com_jem&view=event&id=450:
 maria-pawlak-w-1-rocznice-smierci
END:VEVENT
END:VCALENDAR