BEGIN:VCALENDAR
VERSION:2.0
PRODID:-//193.239.44.119//NONSGML kigkonsult.se iCalcreator 2.20//
CALSCALE:GREGORIAN
METHOD:PUBLISH
X-WR-TIMEZONE:Europe/Warsaw
BEGIN:VEVENT
UID:event451@Parafia Rzymskokatolicka Najświętszego Serca Jezusowego w Łęcz
 u - Salezjanie
DTSTAMP:20260420T020321Z
CATEGORIES:Msza Święta
DESCRIPTION:+ Feliks Milczarek - w 5 rocznicę śmierci oraz Waldemar Milczar
 ek i zmarli z rodziny Milczarków i Nagornych\nKategoria: Msza Święta\nLink
 : https://lecze-salezjanie.pl/index.php?option=com_jem&view=event&id=451:f
 eliks-milczarek-w-5-rocznice-smierci-oraz-waldemar-milczarek-i-zmarli-z-ro
 dziny-milczarkow-i-nagornych\n
DTSTART;TZID=Europe/Warsaw:20220515T120000
DTEND;TZID=Europe/Warsaw:20220515T120000
LOCATION:Świetlica Wiejska w Kamionku Wielkim\,Kamionek Wielki 5B\,Kamionek
  Wielki
SUMMARY:+ Feliks Milczarek - w 5 rocznicę śmierci oraz Waldemar Milczarek i
  zmarli z rodziny Milczarków i Nagornych
URL:https://lecze-salezjanie.pl/index.php?option=com_jem&view=event&id=451:
 feliks-milczarek-w-5-rocznice-smierci-oraz-waldemar-milczarek-i-zmarli-z-r
 odziny-milczarkow-i-nagornych
END:VEVENT
END:VCALENDAR