BEGIN:VCALENDAR
VERSION:2.0
PRODID:-//193.239.44.119//NONSGML kigkonsult.se iCalcreator 2.20//
CALSCALE:GREGORIAN
METHOD:PUBLISH
X-WR-TIMEZONE:Europe/Warsaw
BEGIN:VEVENT
UID:event452@Parafia Rzymskokatolicka Najświętszego Serca Jezusowego w Łęcz
 u - Salezjanie
DTSTAMP:20260420T001216Z
CATEGORIES:Msza Święta
DESCRIPTION:+ Otylia i Stanisław Dudek\nKategoria: Msza Święta\nLink: https
 ://lecze-salezjanie.pl/index.php?option=com_jem&view=event&id=452:otylia-i
 -stanislaw-dudek\n
DTSTART;TZID=Europe/Warsaw:20220526T170000
DTEND;TZID=Europe/Warsaw:20220526T170000
LOCATION:Kościół Maryi Wspomożycielki Wiernych w Suchaczu\,Kielecka 12B\,Su
 chacz
SUMMARY:+ Otylia i Stanisław Dudek
URL:https://lecze-salezjanie.pl/index.php?option=com_jem&view=event&id=452:
 otylia-i-stanislaw-dudek
END:VEVENT
END:VCALENDAR