BEGIN:VCALENDAR
VERSION:2.0
PRODID:-//193.239.44.119//NONSGML kigkonsult.se iCalcreator 2.20//
CALSCALE:GREGORIAN
METHOD:PUBLISH
X-WR-TIMEZONE:Europe/Warsaw
BEGIN:VEVENT
UID:event454@Parafia Rzymskokatolicka Najświętszego Serca Jezusowego w Łęcz
 u - Salezjanie
DTSTAMP:20260420T020321Z
CATEGORIES:Msza Święta
DESCRIPTION:O dary Bożej Miłości i opiekę Matki Bożej dla księdza Janusza w
  dniu urodzin\nKategoria: Msza Święta\nLink: https://lecze-salezjanie.pl/i
 ndex.php?option=com_jem&view=event&id=454:o-dary-bozej-milosci-i-opieke-ma
 tki-bozej-dla-ksiedza-janusza-w-dniu-urodzin\n
DTSTART;TZID=Europe/Warsaw:20220531T170000
DTEND;TZID=Europe/Warsaw:20220531T170000
LOCATION:Kościół Maryi Wspomożycielki Wiernych w Suchaczu\,Kielecka 12B\,Su
 chacz
SUMMARY:O dary Bożej Miłości i opiekę Matki Bożej dla księdza Janusza w dni
 u urodzin
URL:https://lecze-salezjanie.pl/index.php?option=com_jem&view=event&id=454:
 o-dary-bozej-milosci-i-opieke-matki-bozej-dla-ksiedza-janusza-w-dniu-urodz
 in
END:VEVENT
END:VCALENDAR