BEGIN:VCALENDAR
VERSION:2.0
PRODID:-//193.239.44.119//NONSGML kigkonsult.se iCalcreator 2.20//
CALSCALE:GREGORIAN
METHOD:PUBLISH
X-WR-TIMEZONE:Europe/Warsaw
BEGIN:VEVENT
UID:event455@Parafia Rzymskokatolicka Najświętszego Serca Jezusowego w Łęcz
 u - Salezjanie
DTSTAMP:20260419T220635Z
CATEGORIES:Msza Święta
DESCRIPTION:+ Jan Suzinowicz - w rocznicę śmierci\nKategoria: Msza Święta\n
 Link: https://lecze-salezjanie.pl/index.php?option=com_jem&view=event&id=4
 55:jan-suzinowicz-w-rocznice-smierci\n
DTSTART;TZID=Europe/Warsaw:20220605T090000
DTEND;TZID=Europe/Warsaw:20220605T090000
LOCATION:Kościół Maryi Wspomożycielki Wiernych w Suchaczu\,Kielecka 12B\,Su
 chacz
SUMMARY:+ Jan Suzinowicz - w rocznicę śmierci
URL:https://lecze-salezjanie.pl/index.php?option=com_jem&view=event&id=455:
 jan-suzinowicz-w-rocznice-smierci
END:VEVENT
END:VCALENDAR