BEGIN:VCALENDAR
VERSION:2.0
PRODID:-//193.239.44.119//NONSGML kigkonsult.se iCalcreator 2.20//
CALSCALE:GREGORIAN
METHOD:PUBLISH
X-WR-TIMEZONE:Europe/Warsaw
BEGIN:VEVENT
UID:event458@Parafia Rzymskokatolicka Najświętszego Serca Jezusowego w Łęcz
 u - Salezjanie
DTSTAMP:20260419T223329Z
CATEGORIES:Msza Święta
DESCRIPTION:+ Mieczysław Luzar - w 1 rocznicę śmierci\, Stanisław i Juliann
 a Luzar\, Antoni i Henryka Walczyna\nKategoria: Msza Święta\nLink: https:/
 /lecze-salezjanie.pl/index.php?option=com_jem&view=event&id=458:mieczyslaw
 -luzar-w-1-rocznice-smierci-stanislaw-i-julianna-luzar-antoni-i-henryka-wa
 lczyna\n
DTSTART;TZID=Europe/Warsaw:20220612T103000
DTEND;TZID=Europe/Warsaw:20220612T103000
LOCATION:Kościół Maryi Wspomożycielki Wiernych w Suchaczu\,Kielecka 12B\,Su
 chacz
SUMMARY:+ Mieczysław Luzar - w 1 rocznicę śmierci\, Stanisław i Julianna Lu
 zar\, Antoni i Henryka Walczyna
URL:https://lecze-salezjanie.pl/index.php?option=com_jem&view=event&id=458:
 mieczyslaw-luzar-w-1-rocznice-smierci-stanislaw-i-julianna-luzar-antoni-i-
 henryka-walczyna
END:VEVENT
END:VCALENDAR