BEGIN:VCALENDAR
VERSION:2.0
PRODID:-//193.239.44.119//NONSGML kigkonsult.se iCalcreator 2.20//
CALSCALE:GREGORIAN
METHOD:PUBLISH
X-WR-TIMEZONE:Europe/Warsaw
BEGIN:VEVENT
UID:event459@Parafia Rzymskokatolicka Najświętszego Serca Jezusowego w Łęcz
 u - Salezjanie
DTSTAMP:20260419T221848Z
CATEGORIES:Msza Święta
DESCRIPTION:+ Jerzy Piotrowski i za rodziców z obojga stron\nKategoria: Msz
 a Święta\nLink: https://lecze-salezjanie.pl/index.php?option=com_jem&view=
 event&id=459:jerzy-piotrowski-i-za-rodzicow-z-obojga-stron\n
DTSTART;TZID=Europe/Warsaw:20220616T090000
DTEND;TZID=Europe/Warsaw:20220616T090000
LOCATION:Kościół Maryi Wspomożycielki Wiernych w Suchaczu\,Kielecka 12B\,Su
 chacz
SUMMARY:+ Jerzy Piotrowski i za rodziców z obojga stron
URL:https://lecze-salezjanie.pl/index.php?option=com_jem&view=event&id=459:
 jerzy-piotrowski-i-za-rodzicow-z-obojga-stron
END:VEVENT
END:VCALENDAR