BEGIN:VCALENDAR
VERSION:2.0
PRODID:-//193.239.44.119//NONSGML kigkonsult.se iCalcreator 2.20//
CALSCALE:GREGORIAN
METHOD:PUBLISH
X-WR-TIMEZONE:Europe/Warsaw
BEGIN:VEVENT
UID:event460@Parafia Rzymskokatolicka Najświętszego Serca Jezusowego w Łęcz
 u - Salezjanie
DTSTAMP:20260419T222904Z
CATEGORIES:Msza Święta
DESCRIPTION:+ Jan Suzinowicz\, Jan Pawlak\, Jan Homań\nKategoria: Msza Świę
 ta\nLink: https://lecze-salezjanie.pl/index.php?option=com_jem&view=event&
 id=460:jan-suzinowicz-jan-pawlak-jan-homan\n
DTSTART;TZID=Europe/Warsaw:20220623T170000
DTEND;TZID=Europe/Warsaw:20220623T170000
LOCATION:Kościół Maryi Wspomożycielki Wiernych w Suchaczu\,Kielecka 12B\,Su
 chacz
SUMMARY:+ Jan Suzinowicz\, Jan Pawlak\, Jan Homań
URL:https://lecze-salezjanie.pl/index.php?option=com_jem&view=event&id=460:
 jan-suzinowicz-jan-pawlak-jan-homan
END:VEVENT
END:VCALENDAR