BEGIN:VCALENDAR
VERSION:2.0
PRODID:-//193.239.44.119//NONSGML kigkonsult.se iCalcreator 2.20//
CALSCALE:GREGORIAN
METHOD:PUBLISH
X-WR-TIMEZONE:Europe/Warsaw
BEGIN:VEVENT
UID:event461@Parafia Rzymskokatolicka Najświętszego Serca Jezusowego w Łęcz
 u - Salezjanie
DTSTAMP:20260419T223400Z
CATEGORIES:Msza Święta
DESCRIPTION:O Boże Błogosławieństwo\, opiekę Matki Bożej\, zdrowie\, potrze
 bne łaski z racji urodzin Reginy Suzinowicz\nKategoria: Msza Święta\nLink:
  https://lecze-salezjanie.pl/index.php?option=com_jem&view=event&id=461:o-
 boze-blogoslawienstwo-opieke-matki-bozej-zdrowie-potrzebne-laski-z-racji-u
 rodzin-reginy-suzinowicz\n
DTSTART;TZID=Europe/Warsaw:20220626T090000
DTEND;TZID=Europe/Warsaw:20220626T090000
LOCATION:Kościół Maryi Wspomożycielki Wiernych w Suchaczu\,Kielecka 12B\,Su
 chacz
SUMMARY:O Boże Błogosławieństwo\, opiekę Matki Bożej\, zdrowie\, potrzebne 
 łaski z racji urodzin Reginy Suzinowicz
URL:https://lecze-salezjanie.pl/index.php?option=com_jem&view=event&id=461:
 o-boze-blogoslawienstwo-opieke-matki-bozej-zdrowie-potrzebne-laski-z-racji
 -urodzin-reginy-suzinowicz
END:VEVENT
END:VCALENDAR