BEGIN:VCALENDAR
VERSION:2.0
PRODID:-//193.239.44.119//NONSGML kigkonsult.se iCalcreator 2.20//
CALSCALE:GREGORIAN
METHOD:PUBLISH
X-WR-TIMEZONE:Europe/Warsaw
BEGIN:VEVENT
UID:event463@Parafia Rzymskokatolicka Najświętszego Serca Jezusowego w Łęcz
 u - Salezjanie
DTSTAMP:20260419T203148Z
CATEGORIES:Msza Święta
DESCRIPTION:Za zmarłych polecanych w Wypominkach\nKategoria: Msza Święta\nL
 ink: https://lecze-salezjanie.pl/index.php?option=com_jem&view=event&id=46
 3:za-zmarlych-polecanych-w-wypominkach-2\n
DTSTART;TZID=Europe/Warsaw:20220701T170000
DTEND;TZID=Europe/Warsaw:20220701T170000
LOCATION:Kościół Maryi Wspomożycielki Wiernych w Suchaczu\,Kielecka 12B\,Su
 chacz
SUMMARY:Za zmarłych polecanych w Wypominkach
URL:https://lecze-salezjanie.pl/index.php?option=com_jem&view=event&id=463:
 za-zmarlych-polecanych-w-wypominkach-2
END:VEVENT
END:VCALENDAR