BEGIN:VCALENDAR
VERSION:2.0
PRODID:-//193.239.44.119//NONSGML kigkonsult.se iCalcreator 2.20//
CALSCALE:GREGORIAN
METHOD:PUBLISH
X-WR-TIMEZONE:Europe/Warsaw
BEGIN:VEVENT
UID:event465@Parafia Rzymskokatolicka Najświętszego Serca Jezusowego w Łęcz
 u - Salezjanie
DTSTAMP:20260419T203953Z
CATEGORIES:Msza Święta
DESCRIPTION:Dziękczynna\, z prośbą o Boże Błogosławieństwo i opiekę Matki B
 ożej dla Ireny i Mariana Grudzińskich z okazji 50 rocznicy ślubu\nKategori
 a: Msza Święta\nLink: https://lecze-salezjanie.pl/index.php?option=com_jem
 &view=event&id=465:dziekczynna-z-prosba-o-boze-blogoslawienstwo-i-opieke-m
 atki-bozej-dla-ireny-i-mariana-grudzinskich-z-okazji-50-rocznicy-slubu\n
DTSTART;TZID=Europe/Warsaw:20220717T103000
DTEND;TZID=Europe/Warsaw:20220717T103000
LOCATION:Kościół Maryi Wspomożycielki Wiernych w Suchaczu\,Kielecka 12B\,Su
 chacz
SUMMARY:Dziękczynna\, z prośbą o Boże Błogosławieństwo i opiekę Matki Bożej
  dla Ireny i Mariana Grudzińskich z okazji 50 rocznicy ślubu
URL:https://lecze-salezjanie.pl/index.php?option=com_jem&view=event&id=465:
 dziekczynna-z-prosba-o-boze-blogoslawienstwo-i-opieke-matki-bozej-dla-iren
 y-i-mariana-grudzinskich-z-okazji-50-rocznicy-slubu
END:VEVENT
END:VCALENDAR