BEGIN:VCALENDAR
VERSION:2.0
PRODID:-//193.239.44.119//NONSGML kigkonsult.se iCalcreator 2.20//
CALSCALE:GREGORIAN
METHOD:PUBLISH
X-WR-TIMEZONE:Europe/Warsaw
BEGIN:VEVENT
UID:event466@Parafia Rzymskokatolicka Najświętszego Serca Jezusowego w Łęcz
 u - Salezjanie
DTSTAMP:20260419T203312Z
CATEGORIES:Msza Święta
DESCRIPTION:+ Helena\, Edmund\, Marian\, oraz zmarłych z całej rodziny\nKat
 egoria: Msza Święta\nLink: https://lecze-salezjanie.pl/index.php?option=co
 m_jem&view=event&id=466:helena-edmund-marian-oraz-zmarlych-z-calej-rodziny
 -1\n
DTSTART;TZID=Europe/Warsaw:20220724T103000
DTEND;TZID=Europe/Warsaw:20220724T103000
LOCATION:Kościół Maryi Wspomożycielki Wiernych w Suchaczu\,Kielecka 12B\,Su
 chacz
SUMMARY:+ Helena\, Edmund\, Marian\, oraz zmarłych z całej rodziny
URL:https://lecze-salezjanie.pl/index.php?option=com_jem&view=event&id=466:
 helena-edmund-marian-oraz-zmarlych-z-calej-rodziny-1
END:VEVENT
END:VCALENDAR