BEGIN:VCALENDAR
VERSION:2.0
PRODID:-//193.239.44.119//NONSGML kigkonsult.se iCalcreator 2.20//
CALSCALE:GREGORIAN
METHOD:PUBLISH
X-WR-TIMEZONE:Europe/Warsaw
BEGIN:VEVENT
UID:event469@Parafia Rzymskokatolicka Najświętszego Serca Jezusowego w Łęcz
 u - Salezjanie
DTSTAMP:20260419T184653Z
CATEGORIES:Msza Święta
DESCRIPTION:+ Helena Sylwestrzak - w 16 rocznicę śmierci\, Jan Sylwestrzak\
 , Andrzej\, Jadwiga i Alicja z domu Przybylskich\, Roman Giedrys\nKategori
 a: Msza Święta\nLink: https://lecze-salezjanie.pl/index.php?option=com_jem
 &view=event&id=469:helena-sylwestrzak-w-16-rocznice-smierci-jan-sylwestrza
 k-andrzej-jadwiga-i-alicja-z-domu-przybylskich-roman-giedrys\n
DTSTART;TZID=Europe/Warsaw:20220807T103000
DTEND;TZID=Europe/Warsaw:20220807T103000
LOCATION:Kościół Maryi Wspomożycielki Wiernych w Suchaczu\,Kielecka 12B\,Su
 chacz
SUMMARY:+ Helena Sylwestrzak - w 16 rocznicę śmierci\, Jan Sylwestrzak\, An
 drzej\, Jadwiga i Alicja z domu Przybylskich\, Roman Giedrys
URL:https://lecze-salezjanie.pl/index.php?option=com_jem&view=event&id=469:
 helena-sylwestrzak-w-16-rocznice-smierci-jan-sylwestrzak-andrzej-jadwiga-i
 -alicja-z-domu-przybylskich-roman-giedrys
END:VEVENT
END:VCALENDAR