BEGIN:VCALENDAR
VERSION:2.0
PRODID:-//193.239.44.119//NONSGML kigkonsult.se iCalcreator 2.20//
CALSCALE:GREGORIAN
METHOD:PUBLISH
X-WR-TIMEZONE:Europe/Warsaw
BEGIN:VEVENT
UID:event46@Parafia Rzymskokatolicka Najświętszego Serca Jezusowego w Łęczu
  - Salezjanie
DTSTAMP:20260420T070503Z
CATEGORIES:Msza Święta
DESCRIPTION:O zdrowie\, Boże Błogosławieństwo\, opiekę Matki Bożej Wspomoży
 cielki Wiernych dla Mamy i Babci Ani\nKategoria: Msza Święta\nLink: https:
 //lecze-salezjanie.pl/index.php?option=com_jem&view=event&id=46:o-zdrowie-
 boze-blogoslawienstwo-opieke-matki-bozej-wspomozycielki-wiernych-dla-mamy-
 i-babci-ani\n
DTSTART;TZID=Europe/Warsaw:20220120T180000
DTEND;TZID=Europe/Warsaw:20220120T180000
LOCATION:Kościół Najświętszego Serca Jezusowego w Łęczu\,Łęcze 48\,Łęcze
SUMMARY:O zdrowie\, Boże Błogosławieństwo\, opiekę Matki Bożej Wspomożyciel
 ki Wiernych dla Mamy i Babci Ani
URL:https://lecze-salezjanie.pl/index.php?option=com_jem&view=event&id=46:o
 -zdrowie-boze-blogoslawienstwo-opieke-matki-bozej-wspomozycielki-wiernych-
 dla-mamy-i-babci-ani
END:VEVENT
END:VCALENDAR