BEGIN:VCALENDAR
VERSION:2.0
PRODID:-//193.239.44.119//NONSGML kigkonsult.se iCalcreator 2.20//
CALSCALE:GREGORIAN
METHOD:PUBLISH
X-WR-TIMEZONE:Europe/Warsaw
BEGIN:VEVENT
UID:event471@Parafia Rzymskokatolicka Najświętszego Serca Jezusowego w Łęcz
 u - Salezjanie
DTSTAMP:20260419T170010Z
CATEGORIES:Msza Święta
DESCRIPTION:W intencji Koła Żywego Różańca\nKategoria: Msza Święta\nLink: h
 ttps://lecze-salezjanie.pl/index.php?option=com_jem&view=event&id=471:w-in
 tencji-kola-zywego-rozanca-8\n
DTSTART;TZID=Europe/Warsaw:20220904T120000
DTEND;TZID=Europe/Warsaw:20220904T120000
LOCATION:Świetlica Wiejska w Kamionku Wielkim\,Kamionek Wielki 5B\,Kamionek
  Wielki
SUMMARY:W intencji Koła Żywego Różańca
URL:https://lecze-salezjanie.pl/index.php?option=com_jem&view=event&id=471:
 w-intencji-kola-zywego-rozanca-8
END:VEVENT
END:VCALENDAR