BEGIN:VCALENDAR
VERSION:2.0
PRODID:-//193.239.44.119//NONSGML kigkonsult.se iCalcreator 2.20//
CALSCALE:GREGORIAN
METHOD:PUBLISH
X-WR-TIMEZONE:Europe/Warsaw
BEGIN:VEVENT
UID:event478@Parafia Rzymskokatolicka Najświętszego Serca Jezusowego w Łęcz
 u - Salezjanie
DTSTAMP:20260419T151542Z
CATEGORIES:Msza Święta
DESCRIPTION:+ Zdzisław Suzinowicz\nKategoria: Msza Święta\nLink: https://le
 cze-salezjanie.pl/index.php?option=com_jem&view=event&id=478:zdzislaw-suzi
 nowicz\n
DTSTART;TZID=Europe/Warsaw:20221009T090000
DTEND;TZID=Europe/Warsaw:20221009T090000
LOCATION:Kościół Maryi Wspomożycielki Wiernych w Suchaczu\,Kielecka 12B\,Su
 chacz
SUMMARY:+ Zdzisław Suzinowicz
URL:https://lecze-salezjanie.pl/index.php?option=com_jem&view=event&id=478:
 zdzislaw-suzinowicz
END:VEVENT
END:VCALENDAR