BEGIN:VCALENDAR
VERSION:2.0
PRODID:-//193.239.44.119//NONSGML kigkonsult.se iCalcreator 2.20//
CALSCALE:GREGORIAN
METHOD:PUBLISH
X-WR-TIMEZONE:Europe/Warsaw
BEGIN:VEVENT
UID:event479@Parafia Rzymskokatolicka Najświętszego Serca Jezusowego w Łęcz
 u - Salezjanie
DTSTAMP:20260419T152017Z
CATEGORIES:Msza Święta
DESCRIPTION:+ Stanisław Budnik - Msza święta Gregoriańska (11)\nKategoria: 
 Msza Święta\nLink: https://lecze-salezjanie.pl/index.php?option=com_jem&vi
 ew=event&id=479:stanislaw-budnik-msza-swieta-gregorianska-11\n
DTSTART;TZID=Europe/Warsaw:20221011T170000
DTEND;TZID=Europe/Warsaw:20221011T170000
LOCATION:Kościół Maryi Wspomożycielki Wiernych w Suchaczu\,Kielecka 12B\,Su
 chacz
SUMMARY:+ Stanisław Budnik - Msza święta Gregoriańska (11)
URL:https://lecze-salezjanie.pl/index.php?option=com_jem&view=event&id=479:
 stanislaw-budnik-msza-swieta-gregorianska-11
END:VEVENT
END:VCALENDAR