BEGIN:VCALENDAR
VERSION:2.0
PRODID:-//193.239.44.119//NONSGML kigkonsult.se iCalcreator 2.20//
CALSCALE:GREGORIAN
METHOD:PUBLISH
X-WR-TIMEZONE:Europe/Warsaw
BEGIN:VEVENT
UID:event484@Parafia Rzymskokatolicka Najświętszego Serca Jezusowego w Łęcz
 u - Salezjanie
DTSTAMP:20260419T151929Z
CATEGORIES:Msza Święta
DESCRIPTION:+ Stanisław Budnik - Msza święta Gregoriańska (23)\nKategoria: 
 Msza Święta\nLink: https://lecze-salezjanie.pl/index.php?option=com_jem&vi
 ew=event&id=484:stanislaw-budnik-msza-swieta-gregorianska-23\n
DTSTART;TZID=Europe/Warsaw:20221023T090000
DTEND;TZID=Europe/Warsaw:20221023T090000
LOCATION:Kościół Maryi Wspomożycielki Wiernych w Suchaczu\,Kielecka 12B\,Su
 chacz
SUMMARY:+ Stanisław Budnik - Msza święta Gregoriańska (23)
URL:https://lecze-salezjanie.pl/index.php?option=com_jem&view=event&id=484:
 stanislaw-budnik-msza-swieta-gregorianska-23
END:VEVENT
END:VCALENDAR