BEGIN:VCALENDAR
VERSION:2.0
PRODID:-//193.239.44.119//NONSGML kigkonsult.se iCalcreator 2.20//
CALSCALE:GREGORIAN
METHOD:PUBLISH
X-WR-TIMEZONE:Europe/Warsaw
BEGIN:VEVENT
UID:event491@Parafia Rzymskokatolicka Najświętszego Serca Jezusowego w Łęcz
 u - Salezjanie
DTSTAMP:20260420T033853Z
CATEGORIES:Nabożeństwo
DESCRIPTION:Droga Krzyżowa\nKategoria: Nabożeństwo\nLink: https://lecze-sal
 ezjanie.pl/index.php?option=com_jem&view=event&id=491:droga-krzyzowa\n
DTSTART;TZID=Europe/Warsaw:20220304T163000
DTEND;TZID=Europe/Warsaw:20220304T163000
LOCATION:Kościół Maryi Wspomożycielki Wiernych w Suchaczu\,Kielecka 12B\,Su
 chacz
SUMMARY:Droga Krzyżowa
URL:https://lecze-salezjanie.pl/index.php?option=com_jem&view=event&id=491:
 droga-krzyzowa
END:VEVENT
END:VCALENDAR