BEGIN:VCALENDAR
VERSION:2.0
PRODID:-//193.239.44.119//NONSGML kigkonsult.se iCalcreator 2.20//
CALSCALE:GREGORIAN
METHOD:PUBLISH
X-WR-TIMEZONE:Europe/Warsaw
BEGIN:VEVENT
UID:event499@Parafia Rzymskokatolicka Najświętszego Serca Jezusowego w Łęcz
 u - Salezjanie
DTSTAMP:20260420T065944Z
CATEGORIES:Msza Święta
DESCRIPTION:+ Agnieszka Nowicka - w 13 rocznicę śmierci i Zygmunt Nowicki -
  w 6 rocznicę śmierci\nKategoria: Msza Święta\nLink: https://lecze-salezja
 nie.pl/index.php?option=com_jem&view=event&id=499:agnieszka-nowicka-w-13-r
 ocznice-smierci-i-zygmunt-nowicki-w-6-rocznice-smierci\n
DTSTART;TZID=Europe/Warsaw:20220123T103000
DTEND;TZID=Europe/Warsaw:20220123T103000
LOCATION:Kościół Maryi Wspomożycielki Wiernych w Suchaczu\,Kielecka 12B\,Su
 chacz
SUMMARY:+ Agnieszka Nowicka - w 13 rocznicę śmierci i Zygmunt Nowicki - w 6
  rocznicę śmierci
URL:https://lecze-salezjanie.pl/index.php?option=com_jem&view=event&id=499:
 agnieszka-nowicka-w-13-rocznice-smierci-i-zygmunt-nowicki-w-6-rocznice-smi
 erci
END:VEVENT
END:VCALENDAR