BEGIN:VCALENDAR
VERSION:2.0
PRODID:-//193.239.44.119//NONSGML kigkonsult.se iCalcreator 2.20//
CALSCALE:GREGORIAN
METHOD:PUBLISH
X-WR-TIMEZONE:Europe/Warsaw
BEGIN:VEVENT
UID:event49@Parafia Rzymskokatolicka Najświętszego Serca Jezusowego w Łęczu
  - Salezjanie
DTSTAMP:20260420T065212Z
CATEGORIES:Msza Święta
DESCRIPTION:+ Janina Niksa - Msza święta Gregoriańska (20)\nKategoria: Msza
  Święta\nLink: https://lecze-salezjanie.pl/index.php?option=com_jem&view=e
 vent&id=49:janina-niksa-msza-swieta-gregorianska-20\n
DTSTART;TZID=Europe/Warsaw:20220121T180000
DTEND;TZID=Europe/Warsaw:20220121T180000
LOCATION:Kościół Najświętszego Serca Jezusowego w Łęczu\,Łęcze 48\,Łęcze
SUMMARY:+ Janina Niksa - Msza święta Gregoriańska (20)
URL:https://lecze-salezjanie.pl/index.php?option=com_jem&view=event&id=49:j
 anina-niksa-msza-swieta-gregorianska-20
END:VEVENT
END:VCALENDAR