BEGIN:VCALENDAR
VERSION:2.0
PRODID:-//193.239.44.119//NONSGML kigkonsult.se iCalcreator 2.20//
CALSCALE:GREGORIAN
METHOD:PUBLISH
X-WR-TIMEZONE:Europe/Warsaw
BEGIN:VEVENT
UID:event501@Parafia Rzymskokatolicka Najświętszego Serca Jezusowego w Łęcz
 u - Salezjanie
DTSTAMP:20260420T034249Z
CATEGORIES:Msza Święta
DESCRIPTION:+ Jan Federowicz\, Józefa i Bronisław Gorzkowscy\nKategoria: Ms
 za Święta\nLink: https://lecze-salezjanie.pl/index.php?option=com_jem&view
 =event&id=501:jan-federowicz-jozefa-i-bronislaw-gorzkowscy\n
DTSTART;TZID=Europe/Warsaw:20220327T120000
DTEND;TZID=Europe/Warsaw:20220327T120000
LOCATION:Świetlica Wiejska w Kamionku Wielkim\,Kamionek Wielki 5B\,Kamionek
  Wielki
SUMMARY:+ Jan Federowicz\, Józefa i Bronisław Gorzkowscy
URL:https://lecze-salezjanie.pl/index.php?option=com_jem&view=event&id=501:
 jan-federowicz-jozefa-i-bronislaw-gorzkowscy
END:VEVENT
END:VCALENDAR