BEGIN:VCALENDAR
VERSION:2.0
PRODID:-//193.239.44.119//NONSGML kigkonsult.se iCalcreator 2.20//
CALSCALE:GREGORIAN
METHOD:PUBLISH
X-WR-TIMEZONE:Europe/Warsaw
BEGIN:VEVENT
UID:event507@Parafia Rzymskokatolicka Najświętszego Serca Jezusowego w Łęcz
 u - Salezjanie
DTSTAMP:20260420T014606Z
CATEGORIES:Nabożeństwo
DESCRIPTION:Droga Krzyżowa\nKategoria: Nabożeństwo\nLink: https://lecze-sal
 ezjanie.pl/index.php?option=com_jem&view=event&id=507:droga-krzyzowa-1\n
DTSTART;TZID=Europe/Warsaw:20220415T173000
DTEND;TZID=Europe/Warsaw:20220415T173000
LOCATION:Kościół Najświętszego Serca Jezusowego w Łęczu\,Łęcze 48\,Łęcze
SUMMARY:Droga Krzyżowa
URL:https://lecze-salezjanie.pl/index.php?option=com_jem&view=event&id=507:
 droga-krzyzowa-1
END:VEVENT
END:VCALENDAR