BEGIN:VCALENDAR
VERSION:2.0
PRODID:-//193.239.44.119//NONSGML kigkonsult.se iCalcreator 2.20//
CALSCALE:GREGORIAN
METHOD:PUBLISH
X-WR-TIMEZONE:Europe/Warsaw
BEGIN:VEVENT
UID:event50@Parafia Rzymskokatolicka Najświętszego Serca Jezusowego w Łęczu
  - Salezjanie
DTSTAMP:20260420T065546Z
CATEGORIES:Msza Święta
DESCRIPTION:O dary Bożej Miłości\, zdrowie\, nieustanną opiekę Matki Bożej 
 dla Agnieszki Hetman\nKategoria: Msza Święta\nLink: https://lecze-salezjan
 ie.pl/index.php?option=com_jem&view=event&id=50:o-dary-bozej-milosci-zdrow
 ie-nieustanna-opieke-matki-bozej-dla-agnieszki-hetman\n
DTSTART;TZID=Europe/Warsaw:20220121T180000
DTEND;TZID=Europe/Warsaw:20220121T180000
LOCATION:Kościół Najświętszego Serca Jezusowego w Łęczu\,Łęcze 48\,Łęcze
SUMMARY:O dary Bożej Miłości\, zdrowie\, nieustanną opiekę Matki Bożej dla 
 Agnieszki Hetman
URL:https://lecze-salezjanie.pl/index.php?option=com_jem&view=event&id=50:o
 -dary-bozej-milosci-zdrowie-nieustanna-opieke-matki-bozej-dla-agnieszki-he
 tman
END:VEVENT
END:VCALENDAR