BEGIN:VCALENDAR
VERSION:2.0
PRODID:-//193.239.44.119//NONSGML kigkonsult.se iCalcreator 2.20//
CALSCALE:GREGORIAN
METHOD:PUBLISH
X-WR-TIMEZONE:Europe/Warsaw
BEGIN:VEVENT
UID:event510@Parafia Rzymskokatolicka Najświętszego Serca Jezusowego w Łęcz
 u - Salezjanie
DTSTAMP:20260420T034514Z
CATEGORIES:Nabożeństwo
DESCRIPTION:Liturgia Wielkiego Piątku\nKategoria: Nabożeństwo\nLink: https:
 //lecze-salezjanie.pl/index.php?option=com_jem&view=event&id=510:liturgia-
 wielkiego-piatku-1\n
DTSTART;TZID=Europe/Warsaw:20220415T170000
DTEND;TZID=Europe/Warsaw:20220415T170000
LOCATION:Kościół Maryi Wspomożycielki Wiernych w Suchaczu\,Kielecka 12B\,Su
 chacz
SUMMARY:Liturgia Wielkiego Piątku
URL:https://lecze-salezjanie.pl/index.php?option=com_jem&view=event&id=510:
 liturgia-wielkiego-piatku-1
END:VEVENT
END:VCALENDAR