BEGIN:VCALENDAR
VERSION:2.0
PRODID:-//193.239.44.119//NONSGML kigkonsult.se iCalcreator 2.20//
CALSCALE:GREGORIAN
METHOD:PUBLISH
X-WR-TIMEZONE:Europe/Warsaw
BEGIN:VEVENT
UID:event517@Parafia Rzymskokatolicka Najświętszego Serca Jezusowego w Łęcz
 u - Salezjanie
DTSTAMP:20260419T203149Z
CATEGORIES:Msza Święta
DESCRIPTION:+ Zofia i Gerard Pokora oraz Bogdan Stalewski\nKategoria: Msza 
 Święta\nLink: https://lecze-salezjanie.pl/index.php?option=com_jem&view=ev
 ent&id=517:zofia-i-gerard-pokora-oraz-bogdan-stalewski\n
DTSTART;TZID=Europe/Warsaw:20220703T120000
DTEND;TZID=Europe/Warsaw:20220703T120000
LOCATION:Kościół Najświętszego Serca Jezusowego w Łęczu\,Łęcze 48\,Łęcze
SUMMARY:+ Zofia i Gerard Pokora oraz Bogdan Stalewski
URL:https://lecze-salezjanie.pl/index.php?option=com_jem&view=event&id=517:
 zofia-i-gerard-pokora-oraz-bogdan-stalewski
END:VEVENT
END:VCALENDAR