BEGIN:VCALENDAR
VERSION:2.0
PRODID:-//193.239.44.119//NONSGML kigkonsult.se iCalcreator 2.20//
CALSCALE:GREGORIAN
METHOD:PUBLISH
X-WR-TIMEZONE:Europe/Warsaw
BEGIN:VEVENT
UID:event519@Parafia Rzymskokatolicka Najświętszego Serca Jezusowego w Łęcz
 u - Salezjanie
DTSTAMP:20260419T184644Z
CATEGORIES:Msza Święta
DESCRIPTION:W 75 - lecie Ochotniczej Straży Pożarnej w Łęczu - poświęcenie 
 Sztandaru\nKategoria: Msza Święta\nLink: https://lecze-salezjanie.pl/index
 .php?option=com_jem&view=event&id=519:w-75-lecie-ochotniczej-strazy-pozarn
 ej-w-leczu-poswiecenie-sztandaru\n
DTSTART;TZID=Europe/Warsaw:20220806T130000
DTEND;TZID=Europe/Warsaw:20220806T130000
LOCATION:Kościół Najświętszego Serca Jezusowego w Łęczu\,Łęcze 48\,Łęcze
SUMMARY:W 75 - lecie Ochotniczej Straży Pożarnej w Łęczu - poświęcenie Szta
 ndaru
URL:https://lecze-salezjanie.pl/index.php?option=com_jem&view=event&id=519:
 w-75-lecie-ochotniczej-strazy-pozarnej-w-leczu-poswiecenie-sztandaru
END:VEVENT
END:VCALENDAR