BEGIN:VCALENDAR
VERSION:2.0
PRODID:-//193.239.44.119//NONSGML kigkonsult.se iCalcreator 2.20//
CALSCALE:GREGORIAN
METHOD:PUBLISH
X-WR-TIMEZONE:Europe/Warsaw
BEGIN:VEVENT
UID:event51@Parafia Rzymskokatolicka Najświętszego Serca Jezusowego w Łęczu
  - Salezjanie
DTSTAMP:20260420T070503Z
CATEGORIES:Msza Święta
DESCRIPTION:O Boże Błogosławieństwo i potrzebne łaski dla Teresy Rygały z o
 kazji urodzin\nKategoria: Msza Święta\nLink: https://lecze-salezjanie.pl/i
 ndex.php?option=com_jem&view=event&id=51:o-boze-blogoslawienstwo-i-potrzeb
 ne-laski-dla-teresy-rygaly-z-okazji-urodzin\n
DTSTART;TZID=Europe/Warsaw:20220122T180000
DTEND;TZID=Europe/Warsaw:20220122T180000
LOCATION:Kościół Najświętszego Serca Jezusowego w Łęczu\,Łęcze 48\,Łęcze
SUMMARY:O Boże Błogosławieństwo i potrzebne łaski dla Teresy Rygały z okazj
 i urodzin
URL:https://lecze-salezjanie.pl/index.php?option=com_jem&view=event&id=51:o
 -boze-blogoslawienstwo-i-potrzebne-laski-dla-teresy-rygaly-z-okazji-urodzi
 n
END:VEVENT
END:VCALENDAR