BEGIN:VCALENDAR
VERSION:2.0
PRODID:-//193.239.44.119//NONSGML kigkonsult.se iCalcreator 2.20//
CALSCALE:GREGORIAN
METHOD:PUBLISH
X-WR-TIMEZONE:Europe/Warsaw
BEGIN:VEVENT
UID:event520@Parafia Rzymskokatolicka Najświętszego Serca Jezusowego w Łęcz
 u - Salezjanie
DTSTAMP:20260419T170155Z
CATEGORIES:Msza Święta
DESCRIPTION:+ Apolonia i Kazimierz Machcińscy\, Natalia i Jan Madej\, Irena
  Listkowska\nKategoria: Msza Święta\nLink: https://lecze-salezjanie.pl/ind
 ex.php?option=com_jem&view=event&id=520:apolonia-i-kazimierz-machcinscy-na
 talia-i-jan-madej-irena-listkowska\n
DTSTART;TZID=Europe/Warsaw:20220911T090000
DTEND;TZID=Europe/Warsaw:20220911T090000
LOCATION:Kościół Najświętszego Serca Jezusowego w Łęczu\,Łęcze 48\,Łęcze
SUMMARY:+ Apolonia i Kazimierz Machcińscy\, Natalia i Jan Madej\, Irena Lis
 tkowska
URL:https://lecze-salezjanie.pl/index.php?option=com_jem&view=event&id=520:
 apolonia-i-kazimierz-machcinscy-natalia-i-jan-madej-irena-listkowska
END:VEVENT
END:VCALENDAR