BEGIN:VCALENDAR
VERSION:2.0
PRODID:-//193.239.44.119//NONSGML kigkonsult.se iCalcreator 2.20//
CALSCALE:GREGORIAN
METHOD:PUBLISH
X-WR-TIMEZONE:Europe/Warsaw
BEGIN:VEVENT
UID:event523@Parafia Rzymskokatolicka Najświętszego Serca Jezusowego w Łęcz
 u - Salezjanie
DTSTAMP:20260420T064911Z
CATEGORIES:Pogrzeb
DESCRIPTION:+ Irena Buławska\nKategoria: Pogrzeb\nLink: https://lecze-salez
 janie.pl/index.php?option=com_jem&view=event&id=523:irena-bulawska-1\n
DTSTART;TZID=Europe/Warsaw:20220111T120000
DTEND;TZID=Europe/Warsaw:20220111T120000
LOCATION:Kościół Maryi Wspomożycielki Wiernych w Suchaczu\,Kielecka 12B\,Su
 chacz
SUMMARY:+ Irena Buławska
URL:https://lecze-salezjanie.pl/index.php?option=com_jem&view=event&id=523:
 irena-bulawska-1
END:VEVENT
END:VCALENDAR