BEGIN:VCALENDAR
VERSION:2.0
PRODID:-//193.239.44.119//NONSGML kigkonsult.se iCalcreator 2.20//
CALSCALE:GREGORIAN
METHOD:PUBLISH
X-WR-TIMEZONE:Europe/Warsaw
BEGIN:VEVENT
UID:event524@Parafia Rzymskokatolicka Najświętszego Serca Jezusowego w Łęcz
 u - Salezjanie
DTSTAMP:20260422T090031Z
CATEGORIES:Msza Święta
DESCRIPTION:+ Edmund Teul - w 20 rocznicę śmierci\nKategoria: Msza Święta\n
 Link: https://lecze-salezjanie.pl/index.php?option=com_jem&view=event&id=5
 24:edmund-teul-w-20-rocznice-smierci\n
DTSTART;TZID=Europe/Warsaw:20220517T170000
DTEND;TZID=Europe/Warsaw:20220517T170000
LOCATION:Kościół Maryi Wspomożycielki Wiernych w Suchaczu\,Kielecka 12B\,Su
 chacz
SUMMARY:+ Edmund Teul - w 20 rocznicę śmierci
URL:https://lecze-salezjanie.pl/index.php?option=com_jem&view=event&id=524:
 edmund-teul-w-20-rocznice-smierci
END:VEVENT
END:VCALENDAR