BEGIN:VCALENDAR
VERSION:2.0
PRODID:-//193.239.44.119//NONSGML kigkonsult.se iCalcreator 2.20//
CALSCALE:GREGORIAN
METHOD:PUBLISH
X-WR-TIMEZONE:Europe/Warsaw
BEGIN:VEVENT
UID:event527@Parafia Rzymskokatolicka Najświętszego Serca Jezusowego w Łęcz
 u - Salezjanie
DTSTAMP:20260420T001610Z
CATEGORIES:Msza Święta
DESCRIPTION:O powołania kapłańskie i zakonne\nKategoria: Msza Święta\nLink:
  https://lecze-salezjanie.pl/index.php?option=com_jem&view=event&id=527:o-
 powolania-kaplanskie-i-zakonne\n
DTSTART;TZID=Europe/Warsaw:20220505T180000
DTEND;TZID=Europe/Warsaw:20220505T180000
LOCATION:Kościół Najświętszego Serca Jezusowego w Łęczu\,Łęcze 48\,Łęcze
SUMMARY:O powołania kapłańskie i zakonne
URL:https://lecze-salezjanie.pl/index.php?option=com_jem&view=event&id=527:
 o-powolania-kaplanskie-i-zakonne
END:VEVENT
END:VCALENDAR