BEGIN:VCALENDAR
VERSION:2.0
PRODID:-//193.239.44.119//NONSGML kigkonsult.se iCalcreator 2.20//
CALSCALE:GREGORIAN
METHOD:PUBLISH
X-WR-TIMEZONE:Europe/Warsaw
BEGIN:VEVENT
UID:event543@Parafia Rzymskokatolicka Najświętszego Serca Jezusowego w Łęcz
 u - Salezjanie
DTSTAMP:20260419T152404Z
CATEGORIES:Msza Święta
DESCRIPTION:Dziękczynna \, z prośbą o dary Bożej Miłości\, Błogosławieństwo
  i opiekę Matki Bożej w 41 rocznicę ślubu dla Małgorzaty i Alfreda oraz dl
 a dzieci i wnucząt\nKategoria: Msza Święta\nLink: https://lecze-salezjanie
 .pl/index.php?option=com_jem&view=event&id=543:dziekczynna-z-prosba-o-dary
 -bozej-milosci-blogoslawienstwo-i-opieke-matki-bozej-w-41-rocznice-slubu-d
 la-malgorzaty-i-alfreda-oraz-dla-dzieci-i-wnuczat\n
DTSTART;TZID=Europe/Warsaw:20221002T120000
DTEND;TZID=Europe/Warsaw:20221002T120000
LOCATION:Kościół Najświętszego Serca Jezusowego w Łęczu\,Łęcze 48\,Łęcze
SUMMARY:Dziękczynna \, z prośbą o dary Bożej Miłości\, Błogosławieństwo i o
 piekę Matki Bożej w 41 rocznicę ślubu dla Małgorzaty i Alfreda oraz dla dz
 ieci i wnucząt
URL:https://lecze-salezjanie.pl/index.php?option=com_jem&view=event&id=543:
 dziekczynna-z-prosba-o-dary-bozej-milosci-blogoslawienstwo-i-opieke-matki-
 bozej-w-41-rocznice-slubu-dla-malgorzaty-i-alfreda-oraz-dla-dzieci-i-wnucz
 at
END:VEVENT
END:VCALENDAR