BEGIN:VCALENDAR
VERSION:2.0
PRODID:-//193.239.44.119//NONSGML kigkonsult.se iCalcreator 2.20//
CALSCALE:GREGORIAN
METHOD:PUBLISH
X-WR-TIMEZONE:Europe/Warsaw
BEGIN:VEVENT
UID:event545@Parafia Rzymskokatolicka Najświętszego Serca Jezusowego w Łęcz
 u - Salezjanie
DTSTAMP:20260420T020118Z
CATEGORIES:Msza Święta
DESCRIPTION:+ Paweł i Hieronima Święccy\, Stefan\, Władysława i Waldemar Po
 stek\nKategoria: Msza Święta\nLink: https://lecze-salezjanie.pl/index.php?
 option=com_jem&view=event&id=545:pawel-i-hieronima-swieccy-stefan-wladysla
 wa-i-waldemar-postek\n
DTSTART;TZID=Europe/Warsaw:20220504T170000
DTEND;TZID=Europe/Warsaw:20220504T170000
LOCATION:Kościół Maryi Wspomożycielki Wiernych w Suchaczu\,Kielecka 12B\,Su
 chacz
SUMMARY:+ Paweł i Hieronima Święccy\, Stefan\, Władysława i Waldemar Postek
URL:https://lecze-salezjanie.pl/index.php?option=com_jem&view=event&id=545:
 pawel-i-hieronima-swieccy-stefan-wladyslawa-i-waldemar-postek
END:VEVENT
END:VCALENDAR