BEGIN:VCALENDAR
VERSION:2.0
PRODID:-//193.239.44.119//NONSGML kigkonsult.se iCalcreator 2.20//
CALSCALE:GREGORIAN
METHOD:PUBLISH
X-WR-TIMEZONE:Europe/Warsaw
BEGIN:VEVENT
UID:event546@Parafia Rzymskokatolicka Najświętszego Serca Jezusowego w Łęcz
 u - Salezjanie
DTSTAMP:20260420T020321Z
CATEGORIES:Msza Święta
DESCRIPTION:+ Iwona Święcicka - na okoliczność urodzin i imienin oraz Maria
 nna\, Franciszek\, Regina i Leon\nKategoria: Msza Święta\nLink: https://le
 cze-salezjanie.pl/index.php?option=com_jem&view=event&id=546:iwona-swiecic
 ka-na-okolicznosc-urodzin-i-imienin-oraz-marianna-franciszek-regina-i-leon
 \n
DTSTART;TZID=Europe/Warsaw:20220508T090000
DTEND;TZID=Europe/Warsaw:20220508T090000
LOCATION:Kościół Maryi Wspomożycielki Wiernych w Suchaczu\,Kielecka 12B\,Su
 chacz
SUMMARY:+ Iwona Święcicka - na okoliczność urodzin i imienin oraz Marianna\
 , Franciszek\, Regina i Leon
URL:https://lecze-salezjanie.pl/index.php?option=com_jem&view=event&id=546:
 iwona-swiecicka-na-okolicznosc-urodzin-i-imienin-oraz-marianna-franciszek-
 regina-i-leon
END:VEVENT
END:VCALENDAR