BEGIN:VCALENDAR
VERSION:2.0
PRODID:-//193.239.44.119//NONSGML kigkonsult.se iCalcreator 2.20//
CALSCALE:GREGORIAN
METHOD:PUBLISH
X-WR-TIMEZONE:Europe/Warsaw
BEGIN:VEVENT
UID:event54@Parafia Rzymskokatolicka Najświętszego Serca Jezusowego w Łęczu
  - Salezjanie
DTSTAMP:20260420T065204Z
CATEGORIES:Msza Święta
DESCRIPTION:+ Zofia\, Gerard i Bogdan Stalewscy\nKategoria: Msza Święta\nLi
 nk: https://lecze-salezjanie.pl/index.php?option=com_jem&view=event&id=54:
 zofia-gerard-i-bogdan-stalewscy\n
DTSTART;TZID=Europe/Warsaw:20220123T120000
DTEND;TZID=Europe/Warsaw:20220123T120000
LOCATION:Kościół Najświętszego Serca Jezusowego w Łęczu\,Łęcze 48\,Łęcze
SUMMARY:+ Zofia\, Gerard i Bogdan Stalewscy
URL:https://lecze-salezjanie.pl/index.php?option=com_jem&view=event&id=54:z
 ofia-gerard-i-bogdan-stalewscy
END:VEVENT
END:VCALENDAR