BEGIN:VCALENDAR
VERSION:2.0
PRODID:-//193.239.44.119//NONSGML kigkonsult.se iCalcreator 2.20//
CALSCALE:GREGORIAN
METHOD:PUBLISH
X-WR-TIMEZONE:Europe/Warsaw
BEGIN:VEVENT
UID:event552@Parafia Rzymskokatolicka Najświętszego Serca Jezusowego w Łęcz
 u - Salezjanie
DTSTAMP:20260420T001209Z
CATEGORIES:Nabożeństwo
DESCRIPTION:Nabożeństwo Majowe\nKategoria: Nabożeństwo\nLink: https://lecze
 -salezjanie.pl/index.php?option=com_jem&view=event&id=552:nabozenstwo-majo
 we-1\n
DTSTART;TZID=Europe/Warsaw:20220501T173000
DTEND;TZID=Europe/Warsaw:20220501T173000
LOCATION:Kościół Najświętszego Serca Jezusowego w Łęczu\,Łęcze 48\,Łęcze
SUMMARY:Nabożeństwo Majowe
URL:https://lecze-salezjanie.pl/index.php?option=com_jem&view=event&id=552:
 nabozenstwo-majowe-1
END:VEVENT
END:VCALENDAR