BEGIN:VCALENDAR
VERSION:2.0
PRODID:-//193.239.44.119//NONSGML kigkonsult.se iCalcreator 2.20//
CALSCALE:GREGORIAN
METHOD:PUBLISH
X-WR-TIMEZONE:Europe/Warsaw
BEGIN:VEVENT
UID:event553@Parafia Rzymskokatolicka Najświętszego Serca Jezusowego w Łęcz
 u - Salezjanie
DTSTAMP:20260420T001209Z
CATEGORIES:Nabożeństwo
DESCRIPTION:Nabożeństwo Majowe\nKategoria: Nabożeństwo\nLink: https://lecze
 -salezjanie.pl/index.php?option=com_jem&view=event&id=553:nabozenstwo-majo
 we-2\n
DTSTART;TZID=Europe/Warsaw:20220501T094500
DTEND;TZID=Europe/Warsaw:20220501T094500
LOCATION:Kościół Maryi Wspomożycielki Wiernych w Suchaczu\,Kielecka 12B\,Su
 chacz
SUMMARY:Nabożeństwo Majowe
URL:https://lecze-salezjanie.pl/index.php?option=com_jem&view=event&id=553:
 nabozenstwo-majowe-2
END:VEVENT
END:VCALENDAR